BEGIN:VCALENDAR
VERSION:2.0
PRODID:-//Sophicity/Tribune/Alamo, GA
BEGIN:VEVENT
DTSTAMP:20260423T214608Z
UID:ddb5cd4e-1cf5-4d67-bd32-06342f1ba895-3986
DTSTART:20241226T130000Z
DTEND:20241226T213000Z
CLASS:PUBLIC
SUMMARY:OFFICE CLOSED IN OBSERVANCE OF CHRISTMAS
END:VEVENT
END:VCALENDAR
